BEGIN:VCALENDAR
VERSION:2.0
PRODID:-//Comedy Networking - ECPv6.15.17.1//NONSGML v1.0//EN
CALSCALE:GREGORIAN
METHOD:PUBLISH
X-WR-CALNAME:Comedy Networking
X-ORIGINAL-URL:https://comedynetworking.com
X-WR-CALDESC:Events for Comedy Networking
REFRESH-INTERVAL;VALUE=DURATION:PT1H
X-Robots-Tag:noindex
X-PUBLISHED-TTL:PT1H
BEGIN:VTIMEZONE
TZID:America/New_York
BEGIN:DAYLIGHT
TZOFFSETFROM:-0500
TZOFFSETTO:-0400
TZNAME:EDT
DTSTART:20200308T070000
END:DAYLIGHT
BEGIN:STANDARD
TZOFFSETFROM:-0400
TZOFFSETTO:-0500
TZNAME:EST
DTSTART:20201101T060000
END:STANDARD
BEGIN:DAYLIGHT
TZOFFSETFROM:-0500
TZOFFSETTO:-0400
TZNAME:EDT
DTSTART:20210314T070000
END:DAYLIGHT
BEGIN:STANDARD
TZOFFSETFROM:-0400
TZOFFSETTO:-0500
TZNAME:EST
DTSTART:20211107T060000
END:STANDARD
BEGIN:DAYLIGHT
TZOFFSETFROM:-0500
TZOFFSETTO:-0400
TZNAME:EDT
DTSTART:20220313T070000
END:DAYLIGHT
BEGIN:STANDARD
TZOFFSETFROM:-0400
TZOFFSETTO:-0500
TZNAME:EST
DTSTART:20221106T060000
END:STANDARD
END:VTIMEZONE
BEGIN:VTIMEZONE
TZID:America/Chicago
BEGIN:DAYLIGHT
TZOFFSETFROM:-0600
TZOFFSETTO:-0500
TZNAME:CDT
DTSTART:20200308T080000
END:DAYLIGHT
BEGIN:STANDARD
TZOFFSETFROM:-0500
TZOFFSETTO:-0600
TZNAME:CST
DTSTART:20201101T070000
END:STANDARD
BEGIN:DAYLIGHT
TZOFFSETFROM:-0600
TZOFFSETTO:-0500
TZNAME:CDT
DTSTART:20210314T080000
END:DAYLIGHT
BEGIN:STANDARD
TZOFFSETFROM:-0500
TZOFFSETTO:-0600
TZNAME:CST
DTSTART:20211107T070000
END:STANDARD
BEGIN:DAYLIGHT
TZOFFSETFROM:-0600
TZOFFSETTO:-0500
TZNAME:CDT
DTSTART:20220313T080000
END:DAYLIGHT
BEGIN:STANDARD
TZOFFSETFROM:-0500
TZOFFSETTO:-0600
TZNAME:CST
DTSTART:20221106T070000
END:STANDARD
END:VTIMEZONE
BEGIN:VTIMEZONE
TZID:America/Denver
BEGIN:DAYLIGHT
TZOFFSETFROM:-0700
TZOFFSETTO:-0600
TZNAME:MDT
DTSTART:20200308T090000
END:DAYLIGHT
BEGIN:STANDARD
TZOFFSETFROM:-0600
TZOFFSETTO:-0700
TZNAME:MST
DTSTART:20201101T080000
END:STANDARD
BEGIN:DAYLIGHT
TZOFFSETFROM:-0700
TZOFFSETTO:-0600
TZNAME:MDT
DTSTART:20210314T090000
END:DAYLIGHT
BEGIN:STANDARD
TZOFFSETFROM:-0600
TZOFFSETTO:-0700
TZNAME:MST
DTSTART:20211107T080000
END:STANDARD
BEGIN:DAYLIGHT
TZOFFSETFROM:-0700
TZOFFSETTO:-0600
TZNAME:MDT
DTSTART:20220313T090000
END:DAYLIGHT
BEGIN:STANDARD
TZOFFSETFROM:-0600
TZOFFSETTO:-0700
TZNAME:MST
DTSTART:20221106T080000
END:STANDARD
END:VTIMEZONE
BEGIN:VEVENT
DTSTART;TZID=America/New_York:20211111T210000
DTEND;TZID=America/New_York:20211111T230000
DTSTAMP:20260423T061832
CREATED:20210922T030525Z
LAST-MODIFIED:20211112T022608Z
UID:4137-1636664400-1636671600@comedynetworking.com
SUMMARY:Tripping Animals Comedy Night (Thursday)
DESCRIPTION:Tripping  Animals Comedy Night in Doral offers seating reservations\, and Buy-One-Get-One-Free Beers when you RSVP.
URL:https://comedynetworking.com/event/tripping-animals-comedy-night-thursday-6/
LOCATION:Tripping Animals Brewing Co.\, 2685 Northwest 105th Avenue\, Doral\, FL\, 33172\, United States
ATTACH;FMTTYPE=image/jpeg:https://comedynetworking.com/wp-content/uploads/2021/10/83c5a1163dae994841eb194132667b74.jpg
END:VEVENT
BEGIN:VEVENT
DTSTART;TZID=America/New_York:20211111T200000
DTEND;TZID=America/New_York:20211111T230000
DTSTAMP:20260423T061832
CREATED:20211101T234532Z
LAST-MODIFIED:20211108T234919Z
UID:5261-1636660800-1636671600@comedynetworking.com
SUMMARY:Turkey Comedy Contest at Dania Improv
DESCRIPTION:Turkey Contest at Dania Improv – FREE ENTRY when you say “Corey Cognac” at the door!
URL:https://comedynetworking.com/event/turkey-comedy-contest-at-dania-improv/
LOCATION:Dania Improv\, 177 North Pointe Drive\, #STE J105\, Dania Beach\, FL\, 33004\, United States
ATTACH;FMTTYPE=image/jpeg:https://comedynetworking.com/wp-content/uploads/2021/11/6ef21b3d23056d3b664a7245430254ea.jpg
END:VEVENT
BEGIN:VEVENT
DTSTART;TZID=America/Chicago:20211111T200000
DTEND;TZID=America/Chicago:20211111T230000
DTSTAMP:20260423T061832
CREATED:20210928T233022Z
LAST-MODIFIED:20211110T000010Z
UID:4346-1636660800-1636671600@comedynetworking.com
SUMMARY:Thursday Night Live - A Night of Music\, Stand-Up Comedy & Improv!
DESCRIPTION:Pensacola Comedy Presents Thursday Night Live – Stand-up\, Improv & awesome music!
URL:https://comedynetworking.com/event/thursday-night-live-a-night-of-music-stand-up-comedy-improv-7/
LOCATION:Easy Going Gallery\, 701 North V Street\, Pensacola\, FL\, 32505\, United States
ATTACH;FMTTYPE=image/jpeg:https://comedynetworking.com/wp-content/uploads/2021/10/849fc7d6000e57e20a8972455fd8acac.jpg
END:VEVENT
BEGIN:VEVENT
DTSTART;TZID=America/New_York:20211111T200000
DTEND;TZID=America/New_York:20211111T230000
DTSTAMP:20260423T061832
CREATED:20210907T021714Z
LAST-MODIFIED:20211109T024534Z
UID:3717-1636660800-1636671600@comedynetworking.com
SUMMARY:Thursday Comedy Show & Open Mic @ Flaco's and Vecino's
DESCRIPTION:Free Comedy Show and Open Mic + Karaoke Afterparty @ Flaco’s / Vecino’s in Downtown Gainesville
URL:https://comedynetworking.com/event/thursday-comedy-show-open-mic-flacos-and-vecinos-10/
LOCATION:Flaco’s Cuban Bakery\, 200 West University Avenue\, Gainesville\, FL\, 32601\, United States
ATTACH;FMTTYPE=image/jpeg:https://comedynetworking.com/wp-content/uploads/2021/09/482fc55fd24f97fa2204d6c33e520286.jpg
END:VEVENT
BEGIN:VEVENT
DTSTART;TZID=America/New_York:20211111T200000
DTEND;TZID=America/New_York:20211111T230000
DTSTAMP:20260423T061832
CREATED:20210622T002619Z
LAST-MODIFIED:20210720T010618Z
UID:930-1636660800-1636671600@comedynetworking.com
SUMMARY:Kelly Brothers Comedy Show
DESCRIPTION:Kelly Brothers Irish Pub Comedy Show presented by Fasil Malik and Gold Coast Comedy features some of the best comedians in Florida
URL:https://comedynetworking.com/event/kelly-brothers-comedy-show-10/
LOCATION:Kelly Brothers Irish Pub\, 3045 North Federal Highway\, Fort Lauderdale\, FL\, 33306\, United States
ATTACH;FMTTYPE=image/jpeg:https://comedynetworking.com/wp-content/uploads/2021/07/b0e7b181ae974ba9415295165a00788a.jpg
END:VEVENT
BEGIN:VEVENT
DTSTART;TZID=America/New_York:20211111T200000
DTEND;TZID=America/New_York:20211111T220000
DTSTAMP:20260423T061832
CREATED:20211102T043354Z
LAST-MODIFIED:20211109T044457Z
UID:5339-1636660800-1636668000@comedynetworking.com
SUMMARY:FREE TICKETS | MIAMI IMPROV 11/11 | STAND UP COMEDY
DESCRIPTION:FREE TICKETS\n\n\n***SHARE THIS EVENT NOW TO BE ELIGIBLE FOR A FREE VIP UPGRADE*** \nThe Dope City Comedy Tour is back by popular demand. Don’t miss the hottest traveling comedy tour in the country\, one nightonly at the Miami Improv!  \nDope City features Los Angeles based  headliners Matt Bellak and Tim Hanlon. They have been selling out comedy clubs all over the country and have teamed up to form the Dope City Comedy Tour. They have been featured on HULU\, Amazon Prime\, and Comedy Time TV. This irreverant comedy show is sure to leave audiences begging for more. Dont miss when they turn Miami\, into DOPE CITY! \nDoors: 7pm \nShowtime: 8pm \nSEATING IS FIRST COME\, FIRST SERVED. WE RECCOMEND ARRIVING AN HOUR PRIOR TO SHOWTIME TO GRAB A GOOD SEAT \n2 DRINK MINUMUM IN THE SHOWROOM
URL:https://comedynetworking.com/event/free-tickets-miami-improv-11-11-stand-up-comedy/
LOCATION:Miami Improv Comedy Club and Dinner Theater\, 3450 Northwest 83rd Avenue\, ##224\, Doral\, FL\, 33122\, United States
ATTACH;FMTTYPE=image/jpeg:https://comedynetworking.com/wp-content/uploads/2021/11/ee152ae918396435b912dcb759fa307b.jpg
END:VEVENT
BEGIN:VEVENT
DTSTART;TZID=America/New_York:20211111T190000
DTEND;TZID=America/New_York:20211111T220000
DTSTAMP:20260423T061832
CREATED:20210622T233349Z
LAST-MODIFIED:20210929T010311Z
UID:1637-1636657200-1636668000@comedynetworking.com
SUMMARY:Thursday Night Comedy at the Kingdom
DESCRIPTION:Every Thursday\, comedian Vince Taylor invites you to enjoy a night of laughter at the premier I-Drive location … Bronze Kingdom Museum.
URL:https://comedynetworking.com/event/thursday-night-comedy-at-the-kingdom-19/
LOCATION:Bronze Kingdom Museum\, 6464 International Drive\, Orlando\, FL\, 32819\, United States
ATTACH;FMTTYPE=image/jpeg:https://comedynetworking.com/wp-content/uploads/2021/06/a6e513dcdcede06abd7b7cf8f5b4ed60.jpg
END:VEVENT
BEGIN:VEVENT
DTSTART;TZID=America/Denver:20211111T190000
DTEND;TZID=America/Denver:20211111T210000
DTSTAMP:20260423T061832
CREATED:20211021T173020Z
LAST-MODIFIED:20211111T173115Z
UID:5036-1636657200-1636664400@comedynetworking.com
SUMMARY:Rotating Tap Comedy @ Great Divide Brewing
DESCRIPTION:Rotating Tap is Colorado’s only brewery touring stand-up comedy show featuring comedians seen on Netflix\, HBO\, Comedy Central and more!\n\n\nBy ordering these tickets\, you are acknowledging that you will adhere to any and all guidelines put forth by Rotating Tap Comedy\, Great Divide Brewing and the State of Colorado including but not limited to: \n-You MUST rsvp through this Eventbrite page and receive confirmation. Seating is limited\, and you will be denied entry without this. Please note: This is an INDOORS event. \n-The show takes places in a temperature controlled Barrel Room. If you or your friends get cold easily\, a light jacket is suggested \n-General Admission does not guarantee a socially distanced seat. If this is a concern to you\, please purchase a socially distanced table for up to 6 people. \n-You must your mask whenever you are not seated at your table. \n-Arrive by 6:45 to make sure you are seated before the show starts. Please remember to respect the 6 feet of space rule for others\, while waiting to be seated.. \n-A two drinking minimum is suggested. \n-Keep your table talk to a minimum. Don’t heckle either. \n-There will be adult content. Don’t act like we didn’t warn you! \n-If you’re not feeling well\, don’t come! There will be other shows. \n-We’re all very ready to have fun and laugh. Just keep that in mind. \n \nWe reserve the right to deny service to anybody. Failure to comply with these standards\, and you will be asked to leave. If you’re adult enough to handle these guidelines\, we’d love for you to come have a great time with us!
URL:https://comedynetworking.com/event/rotating-tap-comedy-great-divide-brewing-3/
LOCATION:Great Divide Brewing Barrel Room\, 1812 35th St.\, Denver\, CO\, 80216\, United States
ATTACH;FMTTYPE=image/jpeg:https://comedynetworking.com/wp-content/uploads/2021/10/1801c42fe90e2a3f65b3d7df729bc820.jpg
END:VEVENT
BEGIN:VEVENT
DTSTART;TZID=America/New_York:20211111T190000
DTEND;TZID=America/New_York:20211111T203000
DTSTAMP:20260423T061832
CREATED:20210928T194657Z
LAST-MODIFIED:20211109T201837Z
UID:4297-1636657200-1636662600@comedynetworking.com
SUMMARY:Comedian Bryan Callen Live in Naples\, Florida!
DESCRIPTION:Bryan Callen is an American actor\, comedian\, and podcaster- he knows what he’s talking about!
URL:https://comedynetworking.com/event/comedian-bryan-callen-live-in-naples-florida/
LOCATION:Off the Hook Comedy Club\, 2500 Vanderbilt Beach Road\, Naples\, FL\, 34109\, United States
ATTACH;FMTTYPE=image/jpeg:https://comedynetworking.com/wp-content/uploads/2021/09/737c0a4e01e1eb7b5911cf85d3076281.jpg
END:VEVENT
BEGIN:VEVENT
DTSTART;TZID=America/New_York:20211110T210000
DTEND;TZID=America/New_York:20211110T230000
DTSTAMP:20260423T061832
CREATED:20210813T143642Z
LAST-MODIFIED:20211108T000521Z
UID:3050-1636578000-1636585200@comedynetworking.com
SUMMARY:Casa Tiki Comedy Night (Wednesday)
DESCRIPTION:Casa Tiki is located in Calle Ocho\, offering Seating Reservations\, Open Bar for the Ladies\, and Buy-One-Get-One-Free Drinks when you RSVP.
URL:https://comedynetworking.com/event/casa-tiki-comedy-night-12/
LOCATION:Casa Tiki\, 1728 Southwest 8th Street\, Miami\, FL\, 33135\, United States
ATTACH;FMTTYPE=image/jpeg:https://comedynetworking.com/wp-content/uploads/2021/10/147dbbcec72dd9b83944dd5ec5f11812.jpg
END:VEVENT
BEGIN:VEVENT
DTSTART;TZID=America/New_York:20211110T203000
DTEND;TZID=America/New_York:20211110T223000
DTSTAMP:20260423T061832
CREATED:20210622T030439Z
LAST-MODIFIED:20211109T060058Z
UID:1179-1636576200-1636583400@comedynetworking.com
SUMMARY:Coop Mic: Open Mic Night For All Types Of Comedy
DESCRIPTION:Open Mic Night\nBrought to you by The Coop Comedy\nCalling All Comedians And Audiences For A FREE night Of Open Mic Antics!
URL:https://comedynetworking.com/event/coop-mic-open-mic-night-for-all-types-of-comedy-21/
LOCATION:The Coop Comedy\, 165 Avenue L\, Delray Beach\, FL\, 33483\, United States
ATTACH;FMTTYPE=image/jpeg:https://comedynetworking.com/wp-content/uploads/2021/06/7c39294525047127d25d4629d32a3845.jpg
END:VEVENT
BEGIN:VEVENT
DTSTART;TZID=America/New_York:20211110T200000
DTEND;TZID=America/New_York:20211110T230000
DTSTAMP:20260423T061832
CREATED:20210914T025048Z
LAST-MODIFIED:20211108T000519Z
UID:3909-1636574400-1636585200@comedynetworking.com
SUMMARY:Focal Brewery Comedy Night (Wednesday)
DESCRIPTION:Fun show at a new comedy room\, located just 10 min from Wynwood offering Seating Reservations\, and Buy-One-Get-One-Free Mayami Blonde beers.
URL:https://comedynetworking.com/event/focal-brewery-comedy-night-wednesday-6/
LOCATION:Focal Brewing Company\, 7235 Northeast 4th Avenue\, Miami\, FL\, 33138\, United States
ATTACH;FMTTYPE=image/jpeg:https://comedynetworking.com/wp-content/uploads/2021/10/8c626d1f07137c62cb2e98953d682430.jpg
END:VEVENT
BEGIN:VEVENT
DTSTART;TZID=America/New_York:20211110T200000
DTEND;TZID=America/New_York:20211110T230000
DTSTAMP:20260423T061832
CREATED:20210622T191150Z
LAST-MODIFIED:20211105T110047Z
UID:1584-1636574400-1636585200@comedynetworking.com
SUMMARY:Comedy Open Mic Night
DESCRIPTION:Do you like comedy? Looking to try it?  Join us Wednesdays at 8pm at The Justice Pub for a free weekly comedy open mic.
URL:https://comedynetworking.com/event/comedy-open-mic-night-21/
LOCATION:The Justice Pub\, 315 East Bay Street\, Jacksonville\, FL\, 32202\, United States
ATTACH;FMTTYPE=image/jpeg:https://comedynetworking.com/wp-content/uploads/2021/06/9dbe78f771f0235f15298db4c54fcd5a.jpg
END:VEVENT
BEGIN:VEVENT
DTSTART;TZID=America/New_York:20211110T200000
DTEND;TZID=America/New_York:20211110T220000
DTSTAMP:20260423T061832
CREATED:20211109T194603Z
LAST-MODIFIED:20211109T194603Z
UID:5544-1636574400-1636581600@comedynetworking.com
SUMMARY:Comedy Wednesdays at Gatsby’s Joint!
DESCRIPTION:Join us for lots of laughs\, mouth-watering bites & handcrafted cocktails!!!\n\n\nHosted by Nileja\, who’s performed on some of the biggest stages including Gotham\, Stand Up NY\, and the Miami Improv! Each week she produces a handpicked lineup here in South Florida for your laughing pleasure!  \n \nJoin Nileja & friends for a side splitting night of stand-up comedy\, this week featuring Brett Engle\, Chris Renois & Dougie Almeida\, seen on Jimmy Kimmel Live & Fox Sports! You’ll love the Gatsby’s menu\, the amazing bar & staff\, and the classic roaring 20’s backdrop! \n \nMasks are required\, and sanitizing stations are available at the host stand and bar for your safety. Grab your mask and join us for the laughs!
URL:https://comedynetworking.com/event/comedy-wednesdays-at-gatsbys-joint-19/
LOCATION:Gatsby’s Joint\, 2460 East Commercial Boulevard\, Fort Lauderdale\, FL\, 33308\, United States
ATTACH;FMTTYPE=image/jpeg:https://comedynetworking.com/wp-content/uploads/2021/11/5e700fefcbf2f8b3b72cbdf92c1d0186.jpg
END:VEVENT
BEGIN:VEVENT
DTSTART;TZID=America/Denver:20211110T200000
DTEND;TZID=America/Denver:20211110T213000
DTSTAMP:20260423T061833
CREATED:20211016T135956Z
LAST-MODIFIED:20211106T140109Z
UID:4897-1636574400-1636579800@comedynetworking.com
SUMMARY:Not Made For TV
DESCRIPTION:Cocktails\, Stand-Up\, and Sketch Comedy at Enigma Bazaar!\n\n\nNot Made for TV is a Denver-based sketch comedy trio comprised of stand-up comedians: Derek Walton\, Edward Bell\, and Austin Black. Their monthly live show combines hilarious stand-up performances blended with live sketches\, videos\, and special guests! This month’s headliner is GEORGIA COMSTOCK. \nGeorgia Comstock is a Denver based comedian and regular at the world famous Comedy Works. She has been featured in comedy festivals around the country. \nWith special guests: Andres Becerril (High Plains Comedy Festival) and Kelsey Wood. \nEnigma Bazaar is a mystical\, immersive arts bar and performance venue\, serving innovative\, fresh\, seasonal cocktails.  \nShow starts at 8pm.* Tickets are only $10. 21+ \n*Come early for the best seats! Seating is first come\, first served general admission.
URL:https://comedynetworking.com/event/not-made-for-tv-2/
LOCATION:Enigma Bazaar\, 4923 West 38th Avenue\, Denver\, CO\, 80212\, United States
ATTACH;FMTTYPE=image/jpeg:https://comedynetworking.com/wp-content/uploads/2021/10/f0567641618cb150b7937e14ca84447c.jpg
END:VEVENT
BEGIN:VEVENT
DTSTART;TZID=America/New_York:20211110T190000
DTEND;TZID=America/New_York:20211110T220000
DTSTAMP:20260423T061833
CREATED:20210928T205110Z
LAST-MODIFIED:20211109T214613Z
UID:4332-1636570800-1636581600@comedynetworking.com
SUMMARY:Awad Of Comedy With Nadeem and Friends At The Palm Beach Improv
DESCRIPTION:Nadeem Awad Stars w Dan Long\, David Sadman &  Anthony Terzo on a night of comedy w Special Guest DJ Johnny Quest at The Palm Beach Improv
URL:https://comedynetworking.com/event/awad-of-comedy-with-nadeem-and-friends-at-the-palm-beach-improv/
LOCATION:Improv Comedy Club and Dinner Theatre\, 550 South Rosemary Avenue\, #STE 250\, West Palm Beach\, FL\, 33401\, United States
ATTACH;FMTTYPE=image/jpeg:https://comedynetworking.com/wp-content/uploads/2021/10/2f82eec262c13ad6e0d9c785e1efd25b.jpg
END:VEVENT
BEGIN:VEVENT
DTSTART;TZID=America/New_York:20211110T190000
DTEND;TZID=America/New_York:20211110T203000
DTSTAMP:20260423T061833
CREATED:20211102T200410Z
LAST-MODIFIED:20211109T201846Z
UID:5382-1636570800-1636576200@comedynetworking.com
SUMMARY:Comedian Eddie Ifft Live In Naples\, Florida!
DESCRIPTION:Eddie Ifft has been called one of the most underrated comics in America by the Onion and has proudly told jokes around the world to sold-out
URL:https://comedynetworking.com/event/comedian-eddie-ifft-live-in-naples-florida-2/
LOCATION:Off the Hook Comedy Club\, 2500 Vanderbilt Beach Road\, Naples\, FL\, 34109\, United States
ATTACH;FMTTYPE=image/jpeg:https://comedynetworking.com/wp-content/uploads/2021/11/9bdef94f53f256f3cd659cf77eaadcb0.jpg
END:VEVENT
BEGIN:VEVENT
DTSTART;TZID=America/New_York:20211110T190000
DTEND;TZID=America/New_York:20211110T203000
DTSTAMP:20260423T061833
CREATED:20210622T030428Z
LAST-MODIFIED:20211109T060057Z
UID:1148-1636570800-1636576200@comedynetworking.com
SUMMARY:Improv Comedy Drop In Classes At The Coop
DESCRIPTION:A class for people of any level interested in growing as comedic writers\, performers\, and humans! Taught by Chicago and NYC Veteran Jeff Q!
URL:https://comedynetworking.com/event/improv-comedy-drop-in-classes-at-the-coop-21/
LOCATION:The Coop Comedy\, 165 Avenue L\, Delray Beach\, FL\, 33483\, United States
ATTACH;FMTTYPE=image/jpeg:https://comedynetworking.com/wp-content/uploads/2021/06/a03b6a195fee9db6a2796d4ea85a3e19.jpg
END:VEVENT
BEGIN:VEVENT
DTSTART;TZID=America/New_York:20211110T183000
DTEND;TZID=America/New_York:20211110T213000
DTSTAMP:20260423T061833
CREATED:20211001T031517Z
LAST-MODIFIED:20211110T010010Z
UID:4414-1636569000-1636579800@comedynetworking.com
SUMMARY:FREE Comedy Open Mic Night
DESCRIPTION:Free Comedy Open Mic Night!
URL:https://comedynetworking.com/event/free-comedy-open-mic-night-22/
LOCATION:1155 Main St\, 1155 Main Street\, Jupiter\, FL\, 33458\, United States
ATTACH;FMTTYPE=image/jpeg:https://comedynetworking.com/wp-content/uploads/2021/09/fc9d593f47a85d87afb4afc9b07cadf1.jpg
END:VEVENT
BEGIN:VEVENT
DTSTART;TZID=America/Denver:20211110T183000
DTEND;TZID=America/Denver:20211110T203000
DTSTAMP:20260423T061833
CREATED:20211105T203127Z
LAST-MODIFIED:20211105T203127Z
UID:5473-1636569000-1636576200@comedynetworking.com
SUMMARY:Deep Cuts Comedy Show
DESCRIPTION:Free stand-up comedy show at Giordano’s! Experience Denver’s best comedians and touring professionals with a new lineup each week!
URL:https://comedynetworking.com/event/deep-cuts-comedy-show-5/
LOCATION:Giordano’s\, 24 North Broadway\, Denver\, CO\, 80203\, United States
ATTACH;FMTTYPE=image/jpeg:https://comedynetworking.com/wp-content/uploads/2021/10/52e5f5c038339bbf02d4894fd1c7bdf3.jpg
END:VEVENT
BEGIN:VEVENT
DTSTART;TZID=America/Chicago:20211110T183000
DTEND;TZID=America/Chicago:20211110T203000
DTSTAMP:20260423T061833
CREATED:20210622T183428Z
LAST-MODIFIED:20211109T205021Z
UID:1491-1636569000-1636576200@comedynetworking.com
SUMMARY:YIKES! Open Mic @ A Little Madness Brewing
DESCRIPTION:The Comedy Open Mic that will make you say YIKES! and we know you’re gonna like.
URL:https://comedynetworking.com/event/yikes-open-mic-a-little-madness-brewing-21/
LOCATION:A Little Madness Brewing Company\, 9838 North Davis Highway\, Pensacola\, FL\, 32514\, United States
ATTACH;FMTTYPE=image/jpeg:https://comedynetworking.com/wp-content/uploads/2021/06/44097bd1ac92d7ea0aac87680a2de937.jpg
END:VEVENT
BEGIN:VEVENT
DTSTART;TZID=America/New_York:20211109T210000
DTEND;TZID=America/New_York:20211110T003000
DTSTAMP:20260423T061833
CREATED:20210519T202334Z
LAST-MODIFIED:20211105T150102Z
UID:242-1636491600-1636504200@comedynetworking.com
SUMMARY:Grumpy's Underground Comedy Open Mic
DESCRIPTION:Grumpy’s Underground Comedy is a weekly open mic comedy with drink specials.
URL:https://comedynetworking.com/event/grumpys-underground-comedy-open-mic-25/
LOCATION:1018 N Mills Ave\, 1018 North Mills Avenue\, Orlando\, FL\, 32803\, United States
ATTACH;FMTTYPE=image/jpeg:https://comedynetworking.com/wp-content/uploads/2021/05/c679ce0e6e9ee4608a78e4b34fad4e44.jpg
END:VEVENT
BEGIN:VEVENT
DTSTART;TZID=America/New_York:20211109T210000
DTEND;TZID=America/New_York:20211109T223000
DTSTAMP:20260423T061833
CREATED:20211016T025834Z
LAST-MODIFIED:20211108T000523Z
UID:4879-1636491600-1636497000@comedynetworking.com
SUMMARY:Dom's Brickell Comedy Night
DESCRIPTION:DOM’s is located in Brickell\, offering drinking\, dining\, Seating Reservations\, and Buy-One-Get-One-Free Drinks when you RSVP.
URL:https://comedynetworking.com/event/doms-brickell-comedy-night-3/
LOCATION:DOM’S\, 1010 Brickell Avenue\, #200A\, #200A\, Miami\, FL\, 33131\, United States
ATTACH;FMTTYPE=image/jpeg:https://comedynetworking.com/wp-content/uploads/2021/10/d7d9a0bb327cd47ac8d5ea293ee35338.jpg
END:VEVENT
BEGIN:VEVENT
DTSTART;TZID=America/New_York:20211109T203000
DTEND;TZID=America/New_York:20211109T223000
DTSTAMP:20260423T061833
CREATED:20210907T021718Z
LAST-MODIFIED:20211109T024534Z
UID:3732-1636489800-1636497000@comedynetworking.com
SUMMARY:Tankard Tuesday Comedy Show @ The Midnight Underground
DESCRIPTION:Jennifer Vito is a Event Coordinator\, Consultant\, and Artist is Gainesville\, FL. http://jennifervito.com/ http://www.gainesvillecomedyshows.comEvents: Music\, Comedy\, Startup\, Festivals\, Rock Camp\, and more.
URL:https://comedynetworking.com/event/tankard-tuesday-comedy-show-the-midnight-underground-10/
LOCATION:The Midnight Underground\, 101 Southeast 2nd Place\, #Suite 100\, Gainesville\, FL\, 32601\, United States
ATTACH;FMTTYPE=image/jpeg:https://comedynetworking.com/wp-content/uploads/2021/09/a4784dcee78caec244ab8976a8230358.jpg
END:VEVENT
BEGIN:VEVENT
DTSTART;TZID=America/New_York:20211109T200000
DTEND;TZID=America/New_York:20211109T230000
DTSTAMP:20260423T061833
CREATED:20210908T174904Z
LAST-MODIFIED:20211004T020159Z
UID:3818-1636488000-1636498800@comedynetworking.com
SUMMARY:Sweet Caroline Bar Comedy Night (Tuesday)
DESCRIPTION:Sweet Caroline Bar Comedy Night is in Brickell offers\, Seating Reservations and Buy-One-Get-One-Free Drinks when you RSVP
URL:https://comedynetworking.com/event/sweet-caroline-bar-comedy-night-tuesday-6/
LOCATION:Sweet Caroline Karaoke Bar\, 1111 SW 1st Ave #107\, Miami\, FL\, 33130\, United States
ATTACH;FMTTYPE=image/jpeg:https://comedynetworking.com/wp-content/uploads/2021/06/3a96c2f07e85537793a5b0c331e320df.jpg
END:VEVENT
BEGIN:VEVENT
DTSTART;TZID=America/New_York:20211109T190000
DTEND;TZID=America/New_York:20211109T220000
DTSTAMP:20260423T061833
CREATED:20211102T031750Z
LAST-MODIFIED:20211109T034023Z
UID:5282-1636484400-1636495200@comedynetworking.com
SUMMARY:Bru's Room Pompano Comedy Night
DESCRIPTION:Free Live Comedy Show EVERY TUESDAY NIGHT
URL:https://comedynetworking.com/event/brus-room-pompano-comedy-night/
LOCATION:Bru’s Room Pompano\, 235 South Federal Highway\, Pompano Beach\, FL\, 33062\, United States
ATTACH;FMTTYPE=image/jpeg:https://comedynetworking.com/wp-content/uploads/2021/11/17489df27b933a040f244d1716dbd05d.jpg
END:VEVENT
BEGIN:VEVENT
DTSTART;TZID=America/New_York:20211109T190000
DTEND;TZID=America/New_York:20211109T220000
DTSTAMP:20260423T061833
CREATED:20210622T002520Z
LAST-MODIFIED:20211012T031823Z
UID:846-1636484400-1636495200@comedynetworking.com
SUMMARY:Comedy Night at Awa Na Kava Lounge
DESCRIPTION:Free Live Comedy Show at the Awa Na Kava Lounge
URL:https://comedynetworking.com/event/comedy-night-at-awa-na-kava-lounge-10/
LOCATION:Awa Na Kava Lounge\, 619 East Atlantic Boulevard\, Pompano Beach\, FL\, 33060\, United States
ATTACH;FMTTYPE=image/jpeg:https://comedynetworking.com/wp-content/uploads/2021/06/1328c6f3e2e85a5696e772d2933657fb.jpg
END:VEVENT
BEGIN:VEVENT
DTSTART;TZID=America/New_York:20211109T190000
DTEND;TZID=America/New_York:20211109T203000
DTSTAMP:20260423T061833
CREATED:20211102T200336Z
LAST-MODIFIED:20211109T201836Z
UID:5356-1636484400-1636489800@comedynetworking.com
SUMMARY:Comedian Eddie Ifft Live In Naples\, Florida!
DESCRIPTION:Eddie Ifft has been called one of the most underrated comics in America by the Onion and has proudly told jokes around the world to sold-out
URL:https://comedynetworking.com/event/comedian-eddie-ifft-live-in-naples-florida/
LOCATION:Off the Hook Comedy Club\, 2500 Vanderbilt Beach Road\, Naples\, FL\, 34109\, United States
ATTACH;FMTTYPE=image/jpeg:https://comedynetworking.com/wp-content/uploads/2021/11/9bdef94f53f256f3cd659cf77eaadcb0.jpg
END:VEVENT
BEGIN:VEVENT
DTSTART;TZID=America/New_York:20211108T200000
DTEND;TZID=America/New_York:20211108T230000
DTSTAMP:20260423T061833
CREATED:20210908T174852Z
LAST-MODIFIED:20211108T000518Z
UID:3810-1636401600-1636412400@comedynetworking.com
SUMMARY:Redbar Comedy Night (Monday)
DESCRIPTION:Redbar Comedy Night is located in Brickell offering Seating Reservations\, and Buy-One-Get-One-Free Drinks when you RSVP.
URL:https://comedynetworking.com/event/redbar-comedy-night-monday-6/
LOCATION:RedBar Brickell\, 52 SW 10th St.\, Miami\, FL\, 33130\, United States
ATTACH;FMTTYPE=image/jpeg:https://comedynetworking.com/wp-content/uploads/2021/10/71ba00ac664db3203a5b050b0151a5b3.jpg
END:VEVENT
BEGIN:VEVENT
DTSTART;TZID=America/New_York:20211108T200000
DTEND;TZID=America/New_York:20211108T220000
DTSTAMP:20260423T061833
CREATED:20211019T053101Z
LAST-MODIFIED:20211102T060032Z
UID:4982-1636401600-1636408800@comedynetworking.com
SUMMARY:Advanced Comedy: 6 Week Workshop Series Starting 11/8/21
DESCRIPTION:A 6-week workshop series in Advanced Comedic Improv for use in performance and writing. Taught by Chicago and NYC Improv Veteran Jeff Q!
URL:https://comedynetworking.com/event/advanced-comedy-6-week-workshop-series-starting-11-8-21/
LOCATION:The Coop Comedy\, 165 Avenue L\, Delray Beach\, FL\, 33483\, United States
ATTACH;FMTTYPE=image/jpeg:https://comedynetworking.com/wp-content/uploads/2021/10/65b717f5faea424baf49a0fe64706b91.jpg
END:VEVENT
END:VCALENDAR