BEGIN:VCALENDAR
VERSION:2.0
PRODID:-//Comedy Networking - ECPv6.15.17.1//NONSGML v1.0//EN
CALSCALE:GREGORIAN
METHOD:PUBLISH
X-WR-CALNAME:Comedy Networking
X-ORIGINAL-URL:https://comedynetworking.com
X-WR-CALDESC:Events for Comedy Networking
REFRESH-INTERVAL;VALUE=DURATION:PT1H
X-Robots-Tag:noindex
X-PUBLISHED-TTL:PT1H
BEGIN:VTIMEZONE
TZID:America/New_York
BEGIN:DAYLIGHT
TZOFFSETFROM:-0500
TZOFFSETTO:-0400
TZNAME:EDT
DTSTART:20210314T070000
END:DAYLIGHT
BEGIN:STANDARD
TZOFFSETFROM:-0400
TZOFFSETTO:-0500
TZNAME:EST
DTSTART:20211107T060000
END:STANDARD
BEGIN:DAYLIGHT
TZOFFSETFROM:-0500
TZOFFSETTO:-0400
TZNAME:EDT
DTSTART:20220313T070000
END:DAYLIGHT
BEGIN:STANDARD
TZOFFSETFROM:-0400
TZOFFSETTO:-0500
TZNAME:EST
DTSTART:20221106T060000
END:STANDARD
BEGIN:DAYLIGHT
TZOFFSETFROM:-0500
TZOFFSETTO:-0400
TZNAME:EDT
DTSTART:20230312T070000
END:DAYLIGHT
BEGIN:STANDARD
TZOFFSETFROM:-0400
TZOFFSETTO:-0500
TZNAME:EST
DTSTART:20231105T060000
END:STANDARD
END:VTIMEZONE
BEGIN:VTIMEZONE
TZID:America/Chicago
BEGIN:DAYLIGHT
TZOFFSETFROM:-0600
TZOFFSETTO:-0500
TZNAME:CDT
DTSTART:20210314T080000
END:DAYLIGHT
BEGIN:STANDARD
TZOFFSETFROM:-0500
TZOFFSETTO:-0600
TZNAME:CST
DTSTART:20211107T070000
END:STANDARD
BEGIN:DAYLIGHT
TZOFFSETFROM:-0600
TZOFFSETTO:-0500
TZNAME:CDT
DTSTART:20220313T080000
END:DAYLIGHT
BEGIN:STANDARD
TZOFFSETFROM:-0500
TZOFFSETTO:-0600
TZNAME:CST
DTSTART:20221106T070000
END:STANDARD
BEGIN:DAYLIGHT
TZOFFSETFROM:-0600
TZOFFSETTO:-0500
TZNAME:CDT
DTSTART:20230312T080000
END:DAYLIGHT
BEGIN:STANDARD
TZOFFSETFROM:-0500
TZOFFSETTO:-0600
TZNAME:CST
DTSTART:20231105T070000
END:STANDARD
END:VTIMEZONE
BEGIN:VTIMEZONE
TZID:America/Denver
BEGIN:DAYLIGHT
TZOFFSETFROM:-0700
TZOFFSETTO:-0600
TZNAME:MDT
DTSTART:20210314T090000
END:DAYLIGHT
BEGIN:STANDARD
TZOFFSETFROM:-0600
TZOFFSETTO:-0700
TZNAME:MST
DTSTART:20211107T080000
END:STANDARD
BEGIN:DAYLIGHT
TZOFFSETFROM:-0700
TZOFFSETTO:-0600
TZNAME:MDT
DTSTART:20220313T090000
END:DAYLIGHT
BEGIN:STANDARD
TZOFFSETFROM:-0600
TZOFFSETTO:-0700
TZNAME:MST
DTSTART:20221106T080000
END:STANDARD
BEGIN:DAYLIGHT
TZOFFSETFROM:-0700
TZOFFSETTO:-0600
TZNAME:MDT
DTSTART:20230312T090000
END:DAYLIGHT
BEGIN:STANDARD
TZOFFSETFROM:-0600
TZOFFSETTO:-0700
TZNAME:MST
DTSTART:20231105T080000
END:STANDARD
END:VTIMEZONE
BEGIN:VEVENT
DTSTART;TZID=America/New_York:20220330T190000
DTEND;TZID=America/New_York:20220330T203000
DTSTAMP:20260419T074847
CREATED:20220330T001946Z
LAST-MODIFIED:20220330T001946Z
UID:9607-1648666800-1648672200@comedynetworking.com
SUMMARY:Comedian Kyle Grooms Live in Naples\, Florida!
DESCRIPTION:Comedian Kyle Grooms brings his hilarious show to Naples\, Florida! Two nights only!
URL:https://comedynetworking.com/event/comedian-kyle-grooms-live-in-naples-florida-2/
LOCATION:Off the Hook Comedy Club\, 2500 Vanderbilt Beach Road\, Naples\, FL\, 34109\, United States
ATTACH;FMTTYPE=image/jpeg:https://comedynetworking.com/wp-content/uploads/2022/03/ecf87b2c4fdd15f65e2b7dee6f6d8287.jpg
END:VEVENT
BEGIN:VEVENT
DTSTART;TZID=America/New_York:20220330T190000
DTEND;TZID=America/New_York:20220330T203000
DTSTAMP:20260419T074847
CREATED:20220104T070311Z
LAST-MODIFIED:20220329T093200Z
UID:6979-1648666800-1648672200@comedynetworking.com
SUMMARY:Improv Comedy Drop In Classes At The Coop #class
DESCRIPTION:A class for people of any level interested in growing as comedic writers\, performers\, and humans! Taught by Chicago and NYC Veteran Jeff Q!
URL:https://comedynetworking.com/event/improv-comedy-drop-in-classes-at-the-coop-41/
LOCATION:The Coop Comedy\, 165 Avenue L\, Delray Beach\, FL\, 33483\, United States
ATTACH;FMTTYPE=image/jpeg:https://comedynetworking.com/wp-content/uploads/2022/01/eb6863a244efff6d1915f35e88440643.jpg
END:VEVENT
BEGIN:VEVENT
DTSTART;TZID=America/Chicago:20220330T183000
DTEND;TZID=America/Chicago:20220330T203000
DTSTAMP:20260419T074847
CREATED:20210622T183432Z
LAST-MODIFIED:20220330T004646Z
UID:1511-1648665000-1648672200@comedynetworking.com
SUMMARY:YIKES! Open Mic @ A Little Madness Brewing
DESCRIPTION:The Comedy Open Mic that will make you say YIKES! and we know you’re gonna like.
URL:https://comedynetworking.com/event/yikes-open-mic-a-little-madness-brewing-41/
LOCATION:A Little Madness Brewing Company\, 9838 North Davis Highway\, Pensacola\, FL\, 32514\, United States
ATTACH;FMTTYPE=image/jpeg:https://comedynetworking.com/wp-content/uploads/2021/06/44097bd1ac92d7ea0aac87680a2de937.jpg
END:VEVENT
BEGIN:VEVENT
DTSTART;TZID=America/New_York:20220330T180000
DTEND;TZID=America/New_York:20220330T183000
DTSTAMP:20260419T074847
CREATED:20220219T223427Z
LAST-MODIFIED:20220329T054616Z
UID:8460-1648663200-1648665000@comedynetworking.com
SUMMARY:Miami Comedy Podcast Livestream
DESCRIPTION:Laugh everyday by tuning into the Miami Comedy Podcast Livestream. Interact with the show and join the conversations! You are the guest!
URL:https://comedynetworking.com/event/miami-comedy-podcast-livestream-40/
LOCATION:FL
ATTACH;FMTTYPE=image/jpeg:https://comedynetworking.com/wp-content/uploads/2022/02/63fc437f06862a29f3fcbedf700723ff.jpg
END:VEVENT
BEGIN:VEVENT
DTSTART;TZID=America/New_York:20220329T220000
DTEND;TZID=America/New_York:20220330T010000
DTSTAMP:20260419T074847
CREATED:20220311T151504Z
LAST-MODIFIED:20220325T153110Z
UID:9056-1648591200-1648602000@comedynetworking.com
SUMMARY:FREE Comedy Night @ The Green Iguana
DESCRIPTION:It’s comedy night at The Green Iguana! Come on out and see a STACKED lineup for FREE!\n\n\nCome on out for a night of great\, FREE standup comedy! This month we got Dan Bakst (Amazon\, ION) hosting a slew of funny comedians! \nAs always\, we got deals on drinks and food so bring out the pals and let’s have a good time!
URL:https://comedynetworking.com/event/free-comedy-night-the-green-iguana-8/
LOCATION:Green Iguana Bar & Grill\, 4029 South West Shore Boulevard\, Tampa\, FL\, 33611\, United States
ATTACH;FMTTYPE=image/jpeg:https://comedynetworking.com/wp-content/uploads/2022/03/0e49dbccb659b19c4aa0748e2885b2be.jpg
END:VEVENT
BEGIN:VEVENT
DTSTART;TZID=America/New_York:20220329T210000
DTEND;TZID=America/New_York:20220330T003000
DTSTAMP:20260419T074847
CREATED:20210519T202337Z
LAST-MODIFIED:20220325T164637Z
UID:262-1648587600-1648600200@comedynetworking.com
SUMMARY:Grumpy's Underground Comedy Open Mic
DESCRIPTION:Grumpy’s Underground Comedy is a weekly open mic comedy with drink specials.
URL:https://comedynetworking.com/event/grumpys-underground-comedy-open-mic-45/
LOCATION:1018 N Mills Ave\, 1018 North Mills Avenue\, Orlando\, FL\, 32803\, United States
ATTACH;FMTTYPE=image/jpeg:https://comedynetworking.com/wp-content/uploads/2021/05/c679ce0e6e9ee4608a78e4b34fad4e44.jpg
END:VEVENT
BEGIN:VEVENT
DTSTART;TZID=America/New_York:20220329T210000
DTEND;TZID=America/New_York:20220329T223000
DTSTAMP:20260419T074847
CREATED:20220203T133536Z
LAST-MODIFIED:20220329T054614Z
UID:7915-1648587600-1648593000@comedynetworking.com
SUMMARY:Dom's Brickell Comedy Night (Tuesday)
DESCRIPTION:DOM’s is located in Brickell\, offering drinking\, dining\, Seating Reservations\, and Buy-One-Get-One-Free Drinks when you RSVP.
URL:https://comedynetworking.com/event/doms-brickell-comedy-night-tuesday-13/
LOCATION:DOM’S\, 1010 Brickell Avenue\, #200A\, #200A\, Miami\, FL\, 33131\, United States
ATTACH;FMTTYPE=image/jpeg:https://comedynetworking.com/wp-content/uploads/2021/10/d7d9a0bb327cd47ac8d5ea293ee35338.jpg
END:VEVENT
BEGIN:VEVENT
DTSTART;TZID=America/New_York:20220329T190000
DTEND;TZID=America/New_York:20220329T220000
DTSTAMP:20260419T074847
CREATED:20220315T070823Z
LAST-MODIFIED:20220329T071757Z
UID:9181-1648580400-1648591200@comedynetworking.com
SUMMARY:Icebox Cafe Hallandale Comedy Show
DESCRIPTION:The Icebox Cafe Hallandale presents Nik Macik and The Gold Coast Comedy Tour hosted by Arron Shapiro\n\n\nCome see The Gold Coast Comedy Tour performing in Hallandale Beach for 1 night only at The Icebox Cafe. Headliner Nik Macik\, and feature comedians Riley Edwards and Connie Fernandez are three of the top touring comedians in  Florida and now they are bringing their dark\, charming\, and irreverent brand of comedy to you! Hosted by Aaron Shapiro. Come early for dinner and the best seating! Don’t miss it!
URL:https://comedynetworking.com/event/icebox-cafe-hallandale-comedy-show/
LOCATION:Icebox Cafe Hallandale\, 219 Northeast 3rd Street\, Hallandale Beach\, FL\, 33009\, United States
ATTACH;FMTTYPE=image/jpeg:https://comedynetworking.com/wp-content/uploads/2022/03/015ac0d688c3fe539baae5fe3ef1cd48.jpg
END:VEVENT
BEGIN:VEVENT
DTSTART;TZID=America/New_York:20220329T190000
DTEND;TZID=America/New_York:20220329T220000
DTSTAMP:20260419T074847
CREATED:20211102T031757Z
LAST-MODIFIED:20220329T071753Z
UID:5303-1648580400-1648591200@comedynetworking.com
SUMMARY:Bru's Room Pompano Comedy Night
DESCRIPTION:Free Live Comedy Show EVERY TUESDAY NIGHT
URL:https://comedynetworking.com/event/brus-room-pompano-comedy-night-21/
LOCATION:Bru’s Room Pompano\, 235 South Federal Highway\, Pompano Beach\, FL\, 33062\, United States
ATTACH;FMTTYPE=image/jpeg:https://comedynetworking.com/wp-content/uploads/2021/11/17489df27b933a040f244d1716dbd05d.jpg
END:VEVENT
BEGIN:VEVENT
DTSTART;TZID=America/Denver:20220329T190000
DTEND;TZID=America/Denver:20220329T210000
DTSTAMP:20260419T074847
CREATED:20220328T221647Z
LAST-MODIFIED:20220328T221659Z
UID:9516-1648580400-1648587600@comedynetworking.com
SUMMARY:Trivia Down the Alley
DESCRIPTION:Trivia at 3E’s Comedy Club independently hosted and produced by local comedians!
URL:https://comedynetworking.com/event/trivia-down-the-alley/
LOCATION:3E’s Comedy Club\, 1 South Nevada Avenue\, Colorado Springs\, CO\, 80903\, United States
ATTACH;FMTTYPE=image/jpeg:https://comedynetworking.com/wp-content/uploads/2022/03/0ecf5125255df32b9213104b1a5fc59c.jpg
END:VEVENT
BEGIN:VEVENT
DTSTART;TZID=America/New_York:20220329T190000
DTEND;TZID=America/New_York:20220329T203000
DTSTAMP:20260419T074847
CREATED:20220330T001932Z
LAST-MODIFIED:20220330T001932Z
UID:9599-1648580400-1648585800@comedynetworking.com
SUMMARY:Comedian Kyle Grooms Live in Naples\, Florida!
DESCRIPTION:Comedian Kyle Grooms brings his hilarious show to Naples\, Florida! Two nights only!
URL:https://comedynetworking.com/event/comedian-kyle-grooms-live-in-naples-florida/
LOCATION:Off the Hook Comedy Club\, 2500 Vanderbilt Beach Road\, Naples\, FL\, 34109\, United States
ATTACH;FMTTYPE=image/jpeg:https://comedynetworking.com/wp-content/uploads/2022/03/ecf87b2c4fdd15f65e2b7dee6f6d8287.jpg
END:VEVENT
BEGIN:VEVENT
DTSTART;TZID=America/Chicago:20220329T184500
DTEND;TZID=America/Chicago:20220329T210000
DTSTAMP:20260419T074847
CREATED:20220330T011459Z
LAST-MODIFIED:20220330T011459Z
UID:9619-1648579500-1648587600@comedynetworking.com
SUMMARY:Rated R Comedy's Stand-up Open Mic Near UWF In Pensacola
DESCRIPTION:Stand-up comedy open mic featuring hilarious comedians hosted by Ryan Pfeiffer – No Cover\n\n\nCome out for our new stand-up comedy open mic near the University of West Florida.  This is your chance to be the sounding board for seasoned and unseasoned comics as they work out new material.  \nThe stand-up comedy starts at 6:45 and ends at 8:45 pm. Hangout after for karaoke! \nPlease note puns might be  used during the performance. But that’s cool because there’s a full bar.  \nHosted by Ryan Pfeiffer
URL:https://comedynetworking.com/event/rated-r-comedys-stand-up-open-mic-near-uwf-in-pensacola-3/
LOCATION:Purple Parrot Tiki Bar & 3 Palms Bistro\, 13555 Perdido Key Dr #1\, Pensacola\, FL\, 32507\, United States
ATTACH;FMTTYPE=image/jpeg:https://comedynetworking.com/wp-content/uploads/2022/03/dbf662fe4e1a86565f2461df534f3e20.jpg
END:VEVENT
BEGIN:VEVENT
DTSTART;TZID=America/New_York:20220329T180000
DTEND;TZID=America/New_York:20220329T183000
DTSTAMP:20260419T074847
CREATED:20220219T223426Z
LAST-MODIFIED:20220329T054616Z
UID:8459-1648576800-1648578600@comedynetworking.com
SUMMARY:Miami Comedy Podcast Livestream
DESCRIPTION:Laugh everyday by tuning into the Miami Comedy Podcast Livestream. Interact with the show and join the conversations! You are the guest!
URL:https://comedynetworking.com/event/miami-comedy-podcast-livestream-39/
LOCATION:FL
ATTACH;FMTTYPE=image/jpeg:https://comedynetworking.com/wp-content/uploads/2022/02/63fc437f06862a29f3fcbedf700723ff.jpg
END:VEVENT
BEGIN:VEVENT
DTSTART;TZID=America/New_York:20220328T213000
DTEND;TZID=America/New_York:20220329T003000
DTSTAMP:20260419T074847
CREATED:20220305T150105Z
LAST-MODIFIED:20220324T154455Z
UID:8862-1648503000-1648513800@comedynetworking.com
SUMMARY:Jacksonville Comedy Collective Presents: Sam Tallent LIVE at Rain Dogs
DESCRIPTION:Comedian Sam Tallent LIVE at Rain Dogs on March 28th at 9:30pm in Jacksonville\, FL!\n\n\nJacksonville Comedy Collective Presents SAM TALLENT on March 28th\, 2022\, for one night only! Come see the renowned comic and author live at Rain Dogs located in Historic Five Points district in Jacksonville\, Florida. Doors at 9pm; showtime 9:30pm! $10 in advance/$15 door.\n \nKnown for his whip-quick wit and rollicking improvisations\, Sam Tallent is one of the sharpest\, most original rising talents in comedy today. For the last 10 years\, he has performed at least 45 weekends annually across America\, Canada and France. Called “the absurd voice of a surreal generation” by the Denver Post\, Sam is beloved by fans of contemporary comedy. He was a New Face at the 2019 Just for Laughs Montreal Comedy Festival\, he won his battle on Comedy Central’s Roast Battle\, hosted the Denver episode of VICELAND’s Flophouse and appeared on the Chris Gerhard Show to impress a girl. His critically acclaimed debut novel Running the Light – heralded as the “definitive novel about stand up comedy” (Marc Maron\, WTF) – was published by Too Big to Fail Press in 2020 and his short fiction has been published on VICE.com and in BIRDY magazine. He lives in Colorado with his wife and his dog.\n \nSam will be joined by additional comedian Chris Buck and Christina Schriver among others TBA.
URL:https://comedynetworking.com/event/sam-tallent-live-at-rain-dogs/
LOCATION:Rain Dogs\, 1045 Park Street\, Jacksonville\, FL\, 32204\, United States
ATTACH;FMTTYPE=image/jpeg:https://comedynetworking.com/wp-content/uploads/2022/03/927e5e0945ef3570161aaa4ede0a31a2.jpg
END:VEVENT
BEGIN:VEVENT
DTSTART;TZID=America/New_York:20220328T210000
DTEND;TZID=America/New_York:20220328T233000
DTSTAMP:20260419T074847
CREATED:20220201T234834Z
LAST-MODIFIED:20220327T225435Z
UID:7890-1648501200-1648510200@comedynetworking.com
SUMMARY:Thank You Miami Comedy Night (Monday)
DESCRIPTION:Thank You Miami Comedy Night  offers beers\, food menu\, seating reservations\, and Buy-One-Get-One-Free drinks on select beers when you RSVP.
URL:https://comedynetworking.com/event/thank-you-miami-comedy-night-monday-20/
LOCATION:Thank You Miami Cocina & Beer House\, 1701 West Flagler Street\, #Suite 101\, Miami\, FL\, 33135\, United States
ATTACH;FMTTYPE=image/jpeg:https://comedynetworking.com/wp-content/uploads/2021/11/ff561f70c9a76638981497a015dbc565.jpg
END:VEVENT
BEGIN:VEVENT
DTSTART;TZID=America/New_York:20220328T203000
DTEND;TZID=America/New_York:20220328T233000
DTSTAMP:20260419T074847
CREATED:20210622T002631Z
LAST-MODIFIED:20220322T071718Z
UID:978-1648499400-1648510200@comedynetworking.com
SUMMARY:Tin Roof Comedy Night
DESCRIPTION:Free Live Comedy Show in the GREEN ROOM at the Tin Roof in Delray Beach
URL:https://comedynetworking.com/event/tin-roof-comedy-night-10/
LOCATION:Tin Roof\, 8 East Atlantic Avenue\, Delray Beach\, FL\, 33444\, United States
ATTACH;FMTTYPE=image/jpeg:https://comedynetworking.com/wp-content/uploads/2022/03/151cef2fe046fc864f87dec384c08005.jpg
END:VEVENT
BEGIN:VEVENT
DTSTART;TZID=America/New_York:20220328T200000
DTEND;TZID=America/New_York:20220328T230000
DTSTAMP:20260419T074847
CREATED:20220201T234827Z
LAST-MODIFIED:20220327T225433Z
UID:7886-1648497600-1648508400@comedynetworking.com
SUMMARY:Redbar Comedy Night (Monday)
DESCRIPTION:Redbar Comedy Night is located in Brickell offering Seating Reservations\, and Buy-One-Get-One-Free Drinks when you RSVP.
URL:https://comedynetworking.com/event/redbar-comedy-night-monday-26/
LOCATION:RedBar Brickell\, 52 SW 10th St.\, Miami\, FL\, 33130\, United States
ATTACH;FMTTYPE=image/jpeg:https://comedynetworking.com/wp-content/uploads/2021/10/71ba00ac664db3203a5b050b0151a5b3.jpg
END:VEVENT
BEGIN:VEVENT
DTSTART;TZID=America/Denver:20220328T193000
DTEND;TZID=America/Denver:20220328T223000
DTSTAMP:20260419T074847
CREATED:20210618T163506Z
LAST-MODIFIED:20220325T220417Z
UID:497-1648495800-1648506600@comedynetworking.com
SUMMARY:Free Live Comedy Show at the Irish Rover. Showcase of the Mondays!
DESCRIPTION:The Best Free Comedy Show and Open Mic In Denver! Showcase and Open Mic featuring Seasoned and New Stand up Comedians from near and far!
URL:https://comedynetworking.com/event/free-live-comedy-show-at-the-irish-rover-showcase-of-the-mondays-41/
LOCATION:Irish Rover\, 54 South Broadway\, Denver\, CO\, 80209\, United States
ATTACH;FMTTYPE=image/jpeg:https://comedynetworking.com/wp-content/uploads/2021/06/c6e58548ccc0c1525f27589c37c1067f.jpg
END:VEVENT
BEGIN:VEVENT
DTSTART;TZID=America/New_York:20220328T190000
DTEND;TZID=America/New_York:20220328T220000
DTSTAMP:20260419T074847
CREATED:20210622T002535Z
LAST-MODIFIED:20220322T071712Z
UID:909-1648494000-1648504800@comedynetworking.com
SUMMARY:Spanx The Hog Comedy Night
DESCRIPTION:Free Live Comedy Show Every Monday Night
URL:https://comedynetworking.com/event/spanx-the-hog-comedy-night-41/
LOCATION:Spanx the Hog\, 147 South Cypress Road\, Pompano Beach\, FL\, 33060\, United States
ATTACH;FMTTYPE=image/jpeg:https://comedynetworking.com/wp-content/uploads/2021/06/02091c11d93e1c781c724b9eb07426f6.jpg
END:VEVENT
BEGIN:VEVENT
DTSTART;TZID=America/New_York:20220328T180000
DTEND;TZID=America/New_York:20220328T183000
DTSTAMP:20260419T074847
CREATED:20220219T223426Z
LAST-MODIFIED:20220327T225437Z
UID:8458-1648490400-1648492200@comedynetworking.com
SUMMARY:Miami Comedy Podcast Livestream
DESCRIPTION:Laugh everyday by tuning into the Miami Comedy Podcast Livestream. Interact with the show and join the conversations! You are the guest!
URL:https://comedynetworking.com/event/miami-comedy-podcast-livestream-38/
LOCATION:FL
ATTACH;FMTTYPE=image/jpeg:https://comedynetworking.com/wp-content/uploads/2022/02/63fc437f06862a29f3fcbedf700723ff.jpg
END:VEVENT
BEGIN:VEVENT
DTSTART;TZID=America/New_York:20220327T200000
DTEND;TZID=America/New_York:20220327T223000
DTSTAMP:20260419T074847
CREATED:20220120T011921Z
LAST-MODIFIED:20220327T225434Z
UID:7557-1648411200-1648420200@comedynetworking.com
SUMMARY:Tipsy Flamingo Comedy Night (Sunday)
DESCRIPTION:Tipsy Flamingo is located in Downtown Miami\, offering Seating Reservations\, and Buy-One-Get-One-Free Drinks when you RSVP.
URL:https://comedynetworking.com/event/tipsy-flamingo-comedy-night-sunday-13/
LOCATION:Tipsy Flamingo Cocktail Bar\, 40 Northeast 1st Avenue\, ##101\, Miami\, FL\, 33132\, United States
ATTACH;FMTTYPE=image/jpeg:https://comedynetworking.com/wp-content/uploads/2021/10/32f6d01f75c0cd2bf5d9cae18af1adda.jpg
END:VEVENT
BEGIN:VEVENT
DTSTART;TZID=America/Denver:20220327T190000
DTEND;TZID=America/Denver:20220327T220000
DTSTAMP:20260419T074847
CREATED:20220114T204747Z
LAST-MODIFIED:20220325T220424Z
UID:7312-1648407600-1648418400@comedynetworking.com
SUMMARY:Free Live Stand-up comedy night at The Black Buzzard
DESCRIPTION:Free Live Stand Up Comedy Show with Open Mic
URL:https://comedynetworking.com/event/showcase-of-the-sundays-comedy-show-4/
LOCATION:The Black Buzzard at Oskar Blues\, 1624 Market Street\, Denver\, CO\, 80202\, United States
ATTACH;FMTTYPE=image/jpeg:https://comedynetworking.com/wp-content/uploads/2022/02/655c2cbc5c2b62744f2c48c8abca2e0f.jpg
END:VEVENT
BEGIN:VEVENT
DTSTART;TZID=America/Denver:20220327T190000
DTEND;TZID=America/Denver:20220327T203000
DTSTAMP:20260419T074847
CREATED:20211126T211653Z
LAST-MODIFIED:20220325T234610Z
UID:5968-1648407600-1648413000@comedynetworking.com
SUMMARY:Boulder Comedy Show
DESCRIPTION:Bringing the best comedians to Boulder since 2013. Every Sunday at 7pm\, at the spacious Rayback Collective.
URL:https://comedynetworking.com/event/boulder-comedy-show-12/
LOCATION:Rayback Collective\, 2775 Valmont Road\, Boulder\, CO\, 80304\, United States
ATTACH;FMTTYPE=image/jpeg:https://comedynetworking.com/wp-content/uploads/2021/06/3b83d72bb84799b98cfd534eb57eb0b4.jpg
END:VEVENT
BEGIN:VEVENT
DTSTART;TZID=America/Denver:20220327T183000
DTEND;TZID=America/Denver:20220327T213000
DTSTAMP:20260419T074847
CREATED:20220214T220113Z
LAST-MODIFIED:20220321T221627Z
UID:8195-1648405800-1648416600@comedynetworking.com
SUMMARY:Oskar Blues Comedy Night
DESCRIPTION:Oskar Blue’s Comedy Night is back!\nPro\, Touring Comics in the Basement\, Free on Sundays!\n6pm Seating\, 6:30 Show.
URL:https://comedynetworking.com/event/oskar-blues-comedy-night-20/
LOCATION:Oskar Blues Colorado Springs\, 118 N. Tejon Street\, Colorado Springs\, CO\, 80903\, United States
ATTACH;FMTTYPE=image/jpeg:https://comedynetworking.com/wp-content/uploads/2021/06/46515699dc4ee22a93dc467ee780dd7a.jpg
END:VEVENT
BEGIN:VEVENT
DTSTART;TZID=America/New_York:20220327T180000
DTEND;TZID=America/New_York:20220327T183000
DTSTAMP:20260419T074847
CREATED:20220219T223426Z
LAST-MODIFIED:20220327T190210Z
UID:8457-1648404000-1648405800@comedynetworking.com
SUMMARY:Miami Comedy Podcast Livestream
DESCRIPTION:Laugh everyday by tuning into the Miami Comedy Podcast Livestream. Interact with the show and join the conversations! You are the guest!
URL:https://comedynetworking.com/event/miami-comedy-podcast-livestream-37/
LOCATION:FL
ATTACH;FMTTYPE=image/jpeg:https://comedynetworking.com/wp-content/uploads/2022/02/63fc437f06862a29f3fcbedf700723ff.jpg
END:VEVENT
BEGIN:VEVENT
DTSTART;TZID=America/Denver:20220327T173000
DTEND;TZID=America/Denver:20220327T200000
DTSTAMP:20260419T074847
CREATED:20220204T231929Z
LAST-MODIFIED:20220326T004737Z
UID:7979-1648402200-1648411200@comedynetworking.com
SUMMARY:Free Comedy Show at Penthouse Caribbean
DESCRIPTION:Don’t miss this free comedy show every Sunday at 6pm. Denver’s hardest working comics come to perform at this hot new downtown restaurant.
URL:https://comedynetworking.com/event/free-comedy-show-at-penthouse-caribbean-8/
LOCATION:Penthouse Caribbean Restaurant Cafe & Bar\, 1600 Champa Street\, #Suite 230\, Denver\, CO\, 80202\, United States
ATTACH;FMTTYPE=image/jpeg:https://comedynetworking.com/wp-content/uploads/2022/02/be9db406b563cca133fc01f321ddfe64.jpg
END:VEVENT
BEGIN:VEVENT
DTSTART;TZID=America/Denver:20220327T170000
DTEND;TZID=America/Denver:20220327T193000
DTSTAMP:20260419T074847
CREATED:20220319T000134Z
LAST-MODIFIED:20220326T004741Z
UID:9282-1648400400-1648409400@comedynetworking.com
SUMMARY:Free Comedy Show! with boba tea\, espresso\, parking
DESCRIPTION:FREE COMEDY AT RIVER!
URL:https://comedynetworking.com/event/free-comedy-show-with-boba-tea-espresso-parking-2/
LOCATION:RIVER\, 3759 Chestnut Place\, Denver\, CO\, 80216\, United States
ATTACH;FMTTYPE=image/jpeg:https://comedynetworking.com/wp-content/uploads/2022/03/1390465519eb7fe134eb92cf873158a9.jpg
END:VEVENT
BEGIN:VEVENT
DTSTART;TZID=America/Chicago:20220327T140000
DTEND;TZID=America/Chicago:20220327T170000
DTSTAMP:20260419T074847
CREATED:20220126T003029Z
LAST-MODIFIED:20220323T011626Z
UID:7702-1648389600-1648400400@comedynetworking.com
SUMMARY:Sunday Afternoon Live!
DESCRIPTION:Live stand-up comedy and music\n\n\nJoin us for a very special SUNDAY AFTERNOON LIVE! \nThe cover is just $5 \nCurtain at 2 pm! \nWe will bombard you with jokes and amazing music!
URL:https://comedynetworking.com/event/sam-tallent-comedy-central-wtf-w-marc-maron-headlines-pensacola-comedy/
LOCATION:A Little Madness Brewing Company\, 9838 North Davis Highway\, Pensacola\, FL\, 32514\, United States
ATTACH;FMTTYPE=image/jpeg:https://comedynetworking.com/wp-content/uploads/2022/03/48c699ba0c467eb9f2afd9a311c46a70.jpg
END:VEVENT
BEGIN:VEVENT
DTSTART;TZID=America/New_York:20220326T223000
DTEND;TZID=America/New_York:20220326T230000
DTSTAMP:20260419T074847
CREATED:20220219T223425Z
LAST-MODIFIED:20220320T175211Z
UID:8456-1648333800-1648335600@comedynetworking.com
SUMMARY:Miami Comedy Podcast Livestream
DESCRIPTION:Laugh everyday by tuning into the Miami Comedy Podcast Livestream. Interact with the show and join the conversations! You are the guest!
URL:https://comedynetworking.com/event/miami-comedy-podcast-livestream-36/
LOCATION:FL
ATTACH;FMTTYPE=image/jpeg:https://comedynetworking.com/wp-content/uploads/2022/02/63fc437f06862a29f3fcbedf700723ff.jpg
END:VEVENT
BEGIN:VEVENT
DTSTART;TZID=America/New_York:20220326T200000
DTEND;TZID=America/New_York:20220326T213000
DTSTAMP:20260419T074847
CREATED:20220303T195225Z
LAST-MODIFIED:20220324T203110Z
UID:8822-1648324800-1648330200@comedynetworking.com
SUMMARY:Gregory's Upstairs Comedy Room Saturday  Show @8pm
DESCRIPTION:Saturday Show @8pm with light menu available.\n\n\n *** Special Time ****Comedy Show Tickets are for show at 8:00 pm. Please arrive before 7:30pm to get good seats as show starts at 8pm.  \nDUE TO LIMITED STAFF WE WILL ONLY BE SEATING A FEW DINNER BEFORE THE SHOW TABLES OTHER THAN THAT IT WILL ONLY BE LIGHT FINGER FOODS AND DRINKS. OTHERWISE IF YOU WOULD LIKE DINNER BEFORE THE SHOW YOU WILL BE SEATED DOWNSTAIRS IN THE MAIN DINING ROOM AND THEN GO UPSTAIRS ONCE DONE FOR THE SHOW. \nThank you for your patience.  \nA SHOW TICKET DOES NOT MEAN YOU HAVE A MAIN DINING ROOM DINNER RESERVATION. \n For dinner seating at 6:00\, 6:15 or 6:30  pm  please go the the restaurant website to make a yelp dinner reservation. Dinner reservations fill up fast. To preview our Dinner menu it’s available at www.gregoryscomedyclub.com \nIf you want to have dinner you must have a reservation. Walk ins will most likely be turned away due to limited availability. \nGregory’s hosts comedians who have been touring nationwide! You’ve seen them on TV. You’ve seen them in movies. And now you can see them at Gregory’s Upstairs Comedy Club! \nComedy club content is of adult nature 21 and up! \nTickets for show are $15. Drinks and optional light menu are extra. \nGuests disrupting the show will be asked to leave. No Refunds.
URL:https://comedynetworking.com/event/gregorys-upstairs-comedy-room-saturday-show-8pm-28/
LOCATION:Gregory’s Upstairs Comedy Club\, 900 North Atlantic Avenue\, Cocoa Beach\, FL\, 32931\, United States
ATTACH;FMTTYPE=image/jpeg:https://comedynetworking.com/wp-content/uploads/2022/02/1c373298d7a481080f07d417f2cfb827.jpg
END:VEVENT
END:VCALENDAR